BEGIN:VCALENDAR
VERSION:2.0
PRODID:-//eventon.com NONSGML v1.0//EN
CALSCALE:GREGORIAN
METHOD:PUBLISH
BEGIN:VEVENT
UID:69e8a1520bdf4
DTSTAMP:20260422T102210Z
DTSTART:20250507T160000Z
DTEND:20250507T183000Z
LOCATION:The Houstonian Hotel\,  Club &amp; Spa 111 N Post Oak Ln\,  Houston\,  TX 77024
SUMMARY:New Beginnings Luncheon
DESCRIPTION:Join event chairs Colleen Difonzo-Lewis and Erika Frankfort at 
 our third annual New Beginnings Luncheon on Wednesday\,  May 7 at The Houst
 onian Hotel\,  Club &amp; Spa. With a curated menu\,  cocktails\,  luxury r
 affle\,  an inspiring speaker\,  and specialty benefits at each underwriter
  and sponsor level\,  this event is special for[..]\nhttps://avda.org/event
 s/new-beginnings-luncheon/
URL:https://avda.org/events/new-beginnings-luncheon/
END:VEVENT
END:VCALENDAR